BEGIN:VCALENDAR
VERSION:2.0
PRODID:-//Pokładykultury.eu - ECPv5.16.3.1//NONSGML v1.0//EN
CALSCALE:GREGORIAN
METHOD:PUBLISH
X-ORIGINAL-URL:https://www.pokladykultury.com.pl
X-WR-CALDESC:Wydarzenia dla Pokładykultury.eu
REFRESH-INTERVAL;VALUE=DURATION:PT1H
X-Robots-Tag:noindex
X-PUBLISHED-TTL:PT1H
BEGIN:VTIMEZONE
TZID:Europe/Warsaw
BEGIN:DAYLIGHT
TZOFFSETFROM:+0100
TZOFFSETTO:+0200
TZNAME:CEST
DTSTART:20250330T010000
END:DAYLIGHT
BEGIN:STANDARD
TZOFFSETFROM:+0200
TZOFFSETTO:+0100
TZNAME:CET
DTSTART:20251026T010000
END:STANDARD
END:VTIMEZONE
BEGIN:VEVENT
DTSTART;TZID=Europe/Warsaw:20250830T133000
DTEND;TZID=Europe/Warsaw:20250830T163000
DTSTAMP:20260419T203948
CREATED:20250827T101707Z
LAST-MODIFIED:20250827T101817Z
UID:16117-1756560600-1756571400@www.pokladykultury.com.pl
SUMMARY:Plenerowa Szkoła Tańca i Jogi
DESCRIPTION:Obowiązuje wstęp do Ogrodu zgodnie z cennikiem – bilet normalny 6 zł\, ulgowy 4 zł.
URL:https://www.pokladykultury.com.pl/event/plenerowa-szkola-tanca-i-jogi-2/
LOCATION:Miejski Ogród Botaniczny\, ul. Piłsudskiego 60\, Zabrze\, śląskie\, 41-800\, Poland
ATTACH;FMTTYPE=image/jpeg:https://www.pokladykultury.com.pl/wp-content/uploads/2025/08/Plenerowa-Szkola-Tanca-30-sierpnia-2025-scaled.jpg
END:VEVENT
END:VCALENDAR