BEGIN:VCALENDAR
VERSION:2.0
PRODID:-//Pokładykultury.eu - ECPv5.16.3.1//NONSGML v1.0//EN
CALSCALE:GREGORIAN
METHOD:PUBLISH
X-ORIGINAL-URL:https://www.pokladykultury.com.pl
X-WR-CALDESC:Wydarzenia dla Pokładykultury.eu
REFRESH-INTERVAL;VALUE=DURATION:PT1H
X-Robots-Tag:noindex
X-PUBLISHED-TTL:PT1H
BEGIN:VTIMEZONE
TZID:Europe/Warsaw
BEGIN:DAYLIGHT
TZOFFSETFROM:+0100
TZOFFSETTO:+0200
TZNAME:CEST
DTSTART:20250330T010000
END:DAYLIGHT
BEGIN:STANDARD
TZOFFSETFROM:+0200
TZOFFSETTO:+0100
TZNAME:CET
DTSTART:20251026T010000
END:STANDARD
END:VTIMEZONE
BEGIN:VEVENT
DTSTART;TZID=Europe/Warsaw:20250517T200000
DTEND;TZID=Europe/Warsaw:20250517T220000
DTSTAMP:20260420T095508
CREATED:20250404T044508Z
LAST-MODIFIED:20250404T044508Z
UID:14663-1747512000-1747519200@www.pokladykultury.com.pl
SUMMARY:Kabaret Moralnego Niepokoju - Normalne to to nie jest
DESCRIPTION:W dobie\, gdy codzienność zaskakuje nas bardziej niż kiedykolwiek\, Kabaret Moralnego Niepokoju postanowił wyrazić to na scenie\, serwując nowe skecze pełne nieoczekiwanych zwrotów akcji. Czy to możliwe\, że dzisiejsze „normalne” to zwykłe szaleństwo? \nKabaret Moralnego Niepokoju zaprasza na wieczór pełen nowych skeczy\, w trakcie którego codzienne absurdy stają się źródłem śmiechu. Najnowszy program grupy to mieszanka śmiałych obserwacji i inteligentnej komedii\, które bawią i zmuszają do refleksji. \nPremierowe skecze pełne są codziennych absurdów – od gołych kostek w mroźne dni po śmiałe rozmowy o zmieniającym się znaczeniu słów. Nie ma już normalnej zimy ze śniegiem\, na pustyni była ostatnio powódź i zalało Dubaj\, strach coś powiedzieć\, bo cię zakrzyczą\, że tak się nie mówi. Kiedyś były wspomnienia\, teraz są wyłącznie traumy. \n„Normalne to to nie jest” zaskakuje\, bawi i pozostawia widza z przemyśleniami o świecie\, który zmienia się na naszych oczach. Nie przegap tej komediowej uczty ducha\, którą zapamiętasz na długo! \nWystępują:\nRobert Górski\nMikołaj Cieślak\nPrzemysław Borkowski\nRafał Zbieć
URL:https://www.pokladykultury.com.pl/event/kabaret-moralnego-niepokoju-normalne-to-to-nie-jest/
LOCATION:Dom Muzyki i Tańca w Zabrzu\, ul. Gen. de Gaulle'a 17\, Zabrze\, śląskie\, 41-800\, Poland
ATTACH;FMTTYPE=image/jpeg:https://www.pokladykultury.com.pl/wp-content/uploads/2025/04/kmnnormalnegraf.jpg
END:VEVENT
END:VCALENDAR