BEGIN:VCALENDAR
VERSION:2.0
PRODID:-//Pokładykultury.eu - ECPv5.16.3.1//NONSGML v1.0//EN
CALSCALE:GREGORIAN
METHOD:PUBLISH
X-WR-CALNAME:Pokładykultury.eu
X-ORIGINAL-URL:https://www.pokladykultury.com.pl
X-WR-CALDESC:Wydarzenia dla Pokładykultury.eu
REFRESH-INTERVAL;VALUE=DURATION:PT1H
X-Robots-Tag:noindex
X-PUBLISHED-TTL:PT1H
BEGIN:VTIMEZONE
TZID:Europe/Warsaw
BEGIN:DAYLIGHT
TZOFFSETFROM:+0100
TZOFFSETTO:+0200
TZNAME:CEST
DTSTART:20260329T010000
END:DAYLIGHT
BEGIN:STANDARD
TZOFFSETFROM:+0200
TZOFFSETTO:+0100
TZNAME:CET
DTSTART:20261025T010000
END:STANDARD
END:VTIMEZONE
BEGIN:VEVENT
DTSTART;TZID=Europe/Warsaw:20260110T170000
DTEND;TZID=Europe/Warsaw:20260110T180000
DTSTAMP:20260420T125609
CREATED:20251217T085727Z
LAST-MODIFIED:20251217T085727Z
UID:17461-1768064400-1768068000@www.pokladykultury.com.pl
SUMMARY:Wspólne kolędowanie
DESCRIPTION: \n\nDzielnicowy Ośrodek Kultury Biskupice oraz Rada Dzielnicy Biskupice zapraszają na wspólne kolędowanie w DOK Biskupice.\n\n\nTen wyjątkowy wieczór uświetni koncert kolęd w wykonaniu Chóru Mieszanego Klaster pod dyrekcją Łukasza Łobody oraz dzieci biskupickich szkół i przedszkoli. Wspólnie zaśpiewamy najpiękniejsze kolędy i piosenki świąteczne.\n \n\n\nW programie:\n występy dzieci biskupickich szkół i przedszkoli\n wspólne kolędowanie z Chórem Klaster\n koncert kolęd i piosenek świątecznych\n rozgrzewająca herbata i pierniczek dla każdego widza\n\n\n Wstęp wolny!\n\n\n \nPrzyjdźcie z rodziną\, przyjaciółmi i sąsiadami – stwórzmy razem ciepłą\, świąteczną atmosferę.\nDo zobaczenia!
URL:https://www.pokladykultury.com.pl/event/wspolne-koledowanie-2/
LOCATION:Dzielnicowy Ośrodek Kultury Biskupice\, ul. W. Kossaka 23\, Zabrze\, śląskie\, 41-800\, Poland
ATTACH;FMTTYPE=image/jpeg:https://www.pokladykultury.com.pl/wp-content/uploads/2025/12/Wspolne-koledowanie.jpg
END:VEVENT
END:VCALENDAR