BEGIN:VCALENDAR
VERSION:2.0
PRODID:-//Pokładykultury.eu - ECPv5.16.3.1//NONSGML v1.0//EN
CALSCALE:GREGORIAN
METHOD:PUBLISH
X-ORIGINAL-URL:https://www.pokladykultury.com.pl
X-WR-CALDESC:Wydarzenia dla Pokładykultury.eu
REFRESH-INTERVAL;VALUE=DURATION:PT1H
X-Robots-Tag:noindex
X-PUBLISHED-TTL:PT1H
BEGIN:VTIMEZONE
TZID:Europe/Warsaw
BEGIN:DAYLIGHT
TZOFFSETFROM:+0100
TZOFFSETTO:+0200
TZNAME:CEST
DTSTART:20250330T010000
END:DAYLIGHT
BEGIN:STANDARD
TZOFFSETFROM:+0200
TZOFFSETTO:+0100
TZNAME:CET
DTSTART:20251026T010000
END:STANDARD
END:VTIMEZONE
BEGIN:VEVENT
DTSTART;TZID=Europe/Warsaw:20250413T113000
DTEND;TZID=Europe/Warsaw:20250413T130000
DTSTAMP:20260421T023600
CREATED:20250318T124648Z
LAST-MODIFIED:20250318T124648Z
UID:14402-1744543800-1744549200@www.pokladykultury.com.pl
SUMMARY:Msza święta i koncert pasyjny
DESCRIPTION:Kopalnia Guido zaprasza wszystkich chętnych w Niedzielę Palmową\, 13 kwietnia 2025 o godz. 9.30 na mszę świętą w podziemnej Kaplicy św. Barbary. \nBezpośrednio po mszy zapraszamy na koncert pieśni pasyjnych w wykonaniu chóru Halka. \nChór Halka z Kozłowej Góry dzielnicy Piekar Śląskich to wielopokoleniowy chór mieszany który powstał w 1911 roku. Obecnie 35 osobowym chórem dyryguje maestro Nina Guzy\, absolwentka Akademii Muzycznej w Katowicach. \nPodczas koncertu pieśni pasyjnych\, chór wykona utwory\, między innymi takie jak Miserere włoskiego kompozytorzy Antonio Lotti\, Tenebrae factae Sunt austriackiego kompozytora Michaela Haydn\, Paradisi Gloria śląskiego kompozytoraora oraz długoletniego dyrygenta chóru przy katedrze Chrystusa Króla w Katowicach Karola Kaganiec\, Adoramus te\, Christe włoskiego kompozyta Quirino Gasparini\, O wy Wszyscy włoskiego kompozytora Giovanni Croce\, Stabat Mater węgierskiego kompozytora Zoltan Kodaly\, Gdy widzę Ciebie do słów Karola Antoniewicza z muzyką Zbigniewa Słowika oraz Matko Bolesna słowa ksiądz Jan Drabowicz\, muzyka Jan Wiśniewski. \n  \nZjazdy na poziom 170 m: od godz. 09.00\,\nOpłata za zjazd na poziom 170 – 10 zł. \nUwaga! Ze względu na ograniczoną liczbę uczestników konieczna jest wcześniejsza rezerwacja pod nr. 32 271 40 77.
URL:https://www.pokladykultury.com.pl/event/msza-swieta-i-koncert-pasyjny/
LOCATION:Kaplica św. Barbary na poz. 170 w Kopalni Guido\, ul. 3 Maja 93\, Zabrze\, śląskie\, 41-800\, Poland
ATTACH;FMTTYPE=image/png:https://www.pokladykultury.com.pl/wp-content/uploads/2025/03/Niedziela-palmowa_m.png
END:VEVENT
END:VCALENDAR