BEGIN:VCALENDAR
VERSION:2.0
PRODID:-//Pokładykultury.eu - ECPv5.16.3.1//NONSGML v1.0//EN
CALSCALE:GREGORIAN
METHOD:PUBLISH
X-WR-CALNAME:Pokładykultury.eu
X-ORIGINAL-URL:https://www.pokladykultury.com.pl
X-WR-CALDESC:Wydarzenia dla Pokładykultury.eu
REFRESH-INTERVAL;VALUE=DURATION:PT1H
X-Robots-Tag:noindex
X-PUBLISHED-TTL:PT1H
BEGIN:VTIMEZONE
TZID:Europe/Warsaw
BEGIN:DAYLIGHT
TZOFFSETFROM:+0100
TZOFFSETTO:+0200
TZNAME:CEST
DTSTART:20250330T010000
END:DAYLIGHT
BEGIN:STANDARD
TZOFFSETFROM:+0200
TZOFFSETTO:+0100
TZNAME:CET
DTSTART:20251026T010000
END:STANDARD
END:VTIMEZONE
BEGIN:VEVENT
DTSTART;TZID=Europe/Warsaw:20250906T180000
DTEND;TZID=Europe/Warsaw:20250907T000000
DTSTAMP:20260420T080117
CREATED:20250829T052504Z
LAST-MODIFIED:20250829T052504Z
UID:16171-1757181600-1757203200@www.pokladykultury.com.pl
SUMMARY:Dożynki 2025 – ROD 1000-lecia
DESCRIPTION:
URL:https://www.pokladykultury.com.pl/event/dozynki-2025-rod-1000-lecia/
LOCATION:Rodzinny Ogród Działkowy 1000-lecia\, ul. MIkulczycka\, Zabrze\, śląskie\, Poland
ATTACH;FMTTYPE=image/jpeg:https://www.pokladykultury.com.pl/wp-content/uploads/2025/08/Dozynki-2025-na-ROD-1000-lecia.jpg
END:VEVENT
BEGIN:VEVENT
DTSTART;TZID=Europe/Warsaw:20250913T173000
DTEND;TZID=Europe/Warsaw:20250914T000000
DTSTAMP:20260420T080117
CREATED:20250829T050018Z
LAST-MODIFIED:20250829T050018Z
UID:16159-1757784600-1757808000@www.pokladykultury.com.pl
SUMMARY:Dożynki 2025 - ROD im. St. WEbera
DESCRIPTION:Serdecznie zapraszamy wszystkich działkowców oraz ich bliskich na nasze coroczne Święto Plonów.To wyjątkowy moment\, by razem świętować zakończenie sezonu\, docenić trud włożony w pielęgnację działek i po prostu… dobrze się bawić.\n \nW programie:Oficjalne przywitanie i podziękowania dla działkowców za ich pracę i zaangażowanieCatering zapewni: VioliNowa ChataMuzyka na żywo i taneczna zabawa.\n \nNie zabraknie hitów do wspólnego śpiewania i tańców do późnego wieczora.\nObserwuj wydarzenie na FB. Będą aktualizacje i przypomnienia.\nNie może Cię zabraknąć.Przyjdź\, świętuj\, integruj się z sąsiadami i zakończ sezon w wyjątkowej atmosferze.
URL:https://www.pokladykultury.com.pl/event/dozynki-2025-rod-im-st-webera/
LOCATION:Rodzinne Ogródki Działkowe im. St. Webera\, ul. Webera 28\, Zabrze\, śląskie\, Poland
ATTACH;FMTTYPE=image/jpeg:https://www.pokladykultury.com.pl/wp-content/uploads/2025/08/ROD-Webera-dozynki.jpg
END:VEVENT
END:VCALENDAR