BEGIN:VCALENDAR
VERSION:2.0
PRODID:-//Pokładykultury.eu - ECPv5.16.3.1//NONSGML v1.0//EN
CALSCALE:GREGORIAN
METHOD:PUBLISH
X-ORIGINAL-URL:https://www.pokladykultury.com.pl
X-WR-CALDESC:Wydarzenia dla Pokładykultury.eu
REFRESH-INTERVAL;VALUE=DURATION:PT1H
X-Robots-Tag:noindex
X-PUBLISHED-TTL:PT1H
BEGIN:VTIMEZONE
TZID:Europe/Warsaw
BEGIN:DAYLIGHT
TZOFFSETFROM:+0100
TZOFFSETTO:+0200
TZNAME:CEST
DTSTART:20250330T010000
END:DAYLIGHT
BEGIN:STANDARD
TZOFFSETFROM:+0200
TZOFFSETTO:+0100
TZNAME:CET
DTSTART:20251026T010000
END:STANDARD
END:VTIMEZONE
BEGIN:VEVENT
DTSTART;TZID=Europe/Warsaw:20250405T200000
DTEND;TZID=Europe/Warsaw:20250405T220000
DTSTAMP:20260420T223743
CREATED:20250317T114642Z
LAST-MODIFIED:20250317T114642Z
UID:14386-1743883200-1743890400@www.pokladykultury.com.pl
SUMMARY:Antoni Syrek-Dąbrowski - "Jaka piękna katastrofa" stand up comedy
DESCRIPTION:Miejski Ośrodek Kultury w Zabrzu zaprasza 5 kwietnia 2025 r.\, godz. 18.00 na wieczór komedii i konsternacji z Antonim Syrek-Dąbrowskim. „Jaka piękna katastrofa” to zapiski przeżyć Antoniego z ostatniego roku\, a jego perspektywa zmieniła się znacznie\, odkąd został ojcem. \nPrzed Antonim wystąpi również Support. \nBILETY w cenie 79-99 zł/os. dostępne w serwisie KupBilecik. \n* Wydarzenie dla dorosłych!!!\n* Brak zgody na nagrywanie audio/video.\n* Osoby\, które będą przeszkadzać podczas wydarzenia zostaną wyproszone.\nBez zwrotu pieniędzy za bilet. \nMiejski Ośrodek Kultury w Zabrzu\, ul. 3 Maja 91a
URL:https://www.pokladykultury.com.pl/event/antoni-syrek-dabrowski-jaka-piekna-katastrofa-stand-up-comedy/
LOCATION:Miejski Ośrodek Kultury w Zabrzu\, ul. 3 Maja 91a\, Zabrze\, śląskie\, 41-800\, Poland
ATTACH;FMTTYPE=image/jpeg:https://www.pokladykultury.com.pl/wp-content/uploads/2025/03/syrek_dabrowski_baner_rgb-scaled.jpg
END:VEVENT
END:VCALENDAR