BEGIN:VCALENDAR
VERSION:2.0
PRODID:-//Pokładykultury.eu - ECPv5.16.3.1//NONSGML v1.0//EN
CALSCALE:GREGORIAN
METHOD:PUBLISH
X-WR-CALNAME:Pokładykultury.eu
X-ORIGINAL-URL:https://www.pokladykultury.com.pl
X-WR-CALDESC:Wydarzenia dla Pokładykultury.eu
REFRESH-INTERVAL;VALUE=DURATION:PT1H
X-Robots-Tag:noindex
X-PUBLISHED-TTL:PT1H
BEGIN:VTIMEZONE
TZID:Europe/Warsaw
BEGIN:DAYLIGHT
TZOFFSETFROM:+0100
TZOFFSETTO:+0200
TZNAME:CEST
DTSTART:20250330T010000
END:DAYLIGHT
BEGIN:STANDARD
TZOFFSETFROM:+0200
TZOFFSETTO:+0100
TZNAME:CET
DTSTART:20251026T010000
END:STANDARD
END:VTIMEZONE
BEGIN:VEVENT
DTSTART;TZID=Europe/Warsaw:20250510T220000
DTEND;TZID=Europe/Warsaw:20250511T000000
DTSTAMP:20260420T080102
CREATED:20250404T043546Z
LAST-MODIFIED:20250404T043546Z
UID:14654-1746914400-1746921600@www.pokladykultury.com.pl
SUMMARY:Kabaret Hrabi & Goście – Potemowe piosenki
DESCRIPTION:Dom Muzyki i Tańca w Zabrzu zaprasza na koncert „Potemowe Piosenki”. \nZapraszamy na wieczór pełen nostalgii\, humoru i zmartwychwstałych sentymentów – a to wszystko w rytmie niezapomnianych piosenek Kabaretu Potem. To będzie nie tylko koncert\, ale prawdziwa podróż do krainy\, gdzie absurd mieszał się z codziennością\, a śmiech był największym bohaterem. \nW tym muzycznym „seansie spirytystycznym” udział wezmą:\nKabaret Hrabi – bo jak oddać hołd geniuszowi inaczej niż geniuszem\nHanna Śleszyńska – uosobienie humoru i klasy w jednym!\nMaciej Stuhr – który z satyrą w sercu i mikrofonem w dłoni przywróci ducha „Potemów”!\nArtur Andrus – poeta\, satyryk\, mistrz humoru i bard absurdu. Rozśmieszy nawet niemieckiego diesla. \nTylko trzy wyjątkowe koncerty w Zabrzu\, Gdańsku i Warszawie.\nNie czekaj na „potem”\, kup bilet TERAZ! \nkierownictwo muzyczne i aranżacje – Jacek Subociałło\nscenariusz i reżyseria – Marcin Kołaczkowski & Kabaret Hrabi
URL:https://www.pokladykultury.com.pl/event/kabaret-hrabi-goscie-potemowe-piosenki/
LOCATION:Dom Muzyki i Tańca w Zabrzu\, ul. Gen. de Gaulle'a 17\, Zabrze\, śląskie\, 41-800\, Poland
ATTACH;FMTTYPE=image/jpeg:https://www.pokladykultury.com.pl/wp-content/uploads/2025/04/hrabipotemowegraf.jpg
END:VEVENT
BEGIN:VEVENT
DTSTART;TZID=Europe/Warsaw:20250511T140000
DTEND;TZID=Europe/Warsaw:20250511T194500
DTSTAMP:20260420T080102
CREATED:20250506T080444Z
LAST-MODIFIED:20250506T080444Z
UID:14983-1746972000-1746992700@www.pokladykultury.com.pl
SUMMARY:5. Botaniczna Scena Premier
DESCRIPTION:
URL:https://www.pokladykultury.com.pl/event/5-botaniczna-scena-premier/
LOCATION:Miejski Ogród Botaniczny\, ul. Piłsudskiego 60\, Zabrze\, śląskie\, 41-800\, Poland
ATTACH;FMTTYPE=image/png:https://www.pokladykultury.com.pl/wp-content/uploads/2025/05/mob_plakat_internet.png
END:VEVENT
BEGIN:VEVENT
DTSTART;TZID=Europe/Warsaw:20250511T190000
DTEND;TZID=Europe/Warsaw:20250511T210000
DTSTAMP:20260420T080102
CREATED:20250404T043857Z
LAST-MODIFIED:20250404T043857Z
UID:14657-1746990000-1746997200@www.pokladykultury.com.pl
SUMMARY:Prometeusz
DESCRIPTION:„Prometeusz” – akrobatyczne widowisko z chórem i orkiestrą ponownie w Zabrzu! \nJuż 11 maja 2025 scena Domu Muzyki i Tańca w Zabrzu rozbłyśnie niezwykłym blaskiem! Spektakl akrobatyczno-muzyczny „Prometeusz” po ogromnym sukcesie na scenach w całej Polsce ponownie zawita do Zabrza\, by zachwycić śląską publiczność! \nMit zostanie zaprezentowany w imponującym składzie – na scenie zobaczymy niemal 50 artystów: tancerzy i akrobatów\, solistki\, wokalistki chóru Wroclove Musical Choir pod kierunkiem Magdaleny Zawartko oraz muzyków Orkiestry Kameralnej Silesian Art Collective\, którzy pod batutą Mateusza Walacha stworzą niezapomnianą muzyczną oprawę. \nWidowisko — Teatr — Koncert\nReżyser widowiska\, Kamil J. Przyboś\, oparł je na ponadczasowym micie o tytanie\, który wykradł bogom ogień\, budząc w ludziach myślenie\, kreatywność i pasję. Spektakl imponuje rozmachem\, ale nie jest jedynie pokazem akrobacji – to mistrzowskie połączenie ruchu scenicznego\, tańca\, gry aktorskiej i ekwilibrystyki cyrkowej. Widzowie będą świadkami zapierających dech w piersiach ewolucji\, dynamicznych układów tanecznych i znakomicie opowiedzianej historii\, będącej hołdem dla ludzkiej wytrwałości i kreatywności. \nOpowieść\, która porusza i inspiruje\n„Prometeusz” w jubileuszowej odsłonie to prawdziwe dzieło sztuki. Jak podkreśla Dorota Olearczyk z PIK Wrocław:\n„Twórcy wybornie budują napięcia\, serwując widzom amplitudę doznań – od zabawnych scen po dramatyczne\, od spektakularnych po kameralne”.\nDagmara Chojnacka z Radia RAM dodaje:\n„To już nie tylko spektakl akrobatyczno-taneczny\, ale rozbudowane mega widowisko\, które może śmiało ruszać nie tylko w polskie\, ale i międzynarodowe trasy”. \nAntyczne inspiracje w nowoczesnym wydaniu\nTwórcy gorąco zapraszają na „Prometeusza”\, zachęcając: „doświadcz magii teatru\, muzyki i akrobatyki!”. To wyjątkowe artystyczne przeżycie\, które łącząc antyczne inspiracje z nowoczesną formą\, gwarantuje niezapomniane emocje.
URL:https://www.pokladykultury.com.pl/event/prometeusz/
LOCATION:Dom Muzyki i Tańca w Zabrzu\, ul. Gen. de Gaulle'a 17\, Zabrze\, śląskie\, 41-800\, Poland
ATTACH;FMTTYPE=image/png:https://www.pokladykultury.com.pl/wp-content/uploads/2025/04/prometeusz25graf.png
END:VEVENT
BEGIN:VEVENT
DTSTART;TZID=Europe/Warsaw:20250517T200000
DTEND;TZID=Europe/Warsaw:20250517T220000
DTSTAMP:20260420T080102
CREATED:20250404T044508Z
LAST-MODIFIED:20250404T044508Z
UID:14663-1747512000-1747519200@www.pokladykultury.com.pl
SUMMARY:Kabaret Moralnego Niepokoju - Normalne to to nie jest
DESCRIPTION:W dobie\, gdy codzienność zaskakuje nas bardziej niż kiedykolwiek\, Kabaret Moralnego Niepokoju postanowił wyrazić to na scenie\, serwując nowe skecze pełne nieoczekiwanych zwrotów akcji. Czy to możliwe\, że dzisiejsze „normalne” to zwykłe szaleństwo? \nKabaret Moralnego Niepokoju zaprasza na wieczór pełen nowych skeczy\, w trakcie którego codzienne absurdy stają się źródłem śmiechu. Najnowszy program grupy to mieszanka śmiałych obserwacji i inteligentnej komedii\, które bawią i zmuszają do refleksji. \nPremierowe skecze pełne są codziennych absurdów – od gołych kostek w mroźne dni po śmiałe rozmowy o zmieniającym się znaczeniu słów. Nie ma już normalnej zimy ze śniegiem\, na pustyni była ostatnio powódź i zalało Dubaj\, strach coś powiedzieć\, bo cię zakrzyczą\, że tak się nie mówi. Kiedyś były wspomnienia\, teraz są wyłącznie traumy. \n„Normalne to to nie jest” zaskakuje\, bawi i pozostawia widza z przemyśleniami o świecie\, który zmienia się na naszych oczach. Nie przegap tej komediowej uczty ducha\, którą zapamiętasz na długo! \nWystępują:\nRobert Górski\nMikołaj Cieślak\nPrzemysław Borkowski\nRafał Zbieć
URL:https://www.pokladykultury.com.pl/event/kabaret-moralnego-niepokoju-normalne-to-to-nie-jest/
LOCATION:Dom Muzyki i Tańca w Zabrzu\, ul. Gen. de Gaulle'a 17\, Zabrze\, śląskie\, 41-800\, Poland
ATTACH;FMTTYPE=image/jpeg:https://www.pokladykultury.com.pl/wp-content/uploads/2025/04/kmnnormalnegraf.jpg
END:VEVENT
BEGIN:VEVENT
DTSTART;TZID=Europe/Warsaw:20250518T180000
DTEND;TZID=Europe/Warsaw:20250518T200000
DTSTAMP:20260420T080102
CREATED:20250404T044811Z
LAST-MODIFIED:20250404T044811Z
UID:14666-1747591200-1747598400@www.pokladykultury.com.pl
SUMMARY:Zdolni i Skromni - Da się zrozumieć
DESCRIPTION:Ewelina (Sztefa)\, Łukasz (Brajan)\, Olga (blondynka z kabaretów)\, Andrzej (przystojniak z telewizji). Ta wesoła banda znana z Tik-Toka\, Facebooka i telewizji\, kolejny raz rusza w trasę. Wiosną na Śląsku\, jesienią w całej Polsce. Będą żartować. Będą szaleć. A przy tym\, nie będą brać jeńców. Wybawią was do ostatniej kropli śmiechu! \n„Da się zrozumieć”\, czyli po śląsku „połonaczy się to”. \nW TYM PROGRAMIE WSZYSTKO BĘDZIE NOWE! \nSkecze nowe\, piosenki nowe\, zapowiedzi nowe.\nJak zawsze znajdzie się co najmniej jeden śląski skecz o przygodach Sztefy i Brajana.\nJak zawsze historie będą bliskie prawdziwemu życiu.\nJak zawsze wszyscy będą Zdolni i Skromni. \nO czym będzie program? O tym\, że w tych nieszczęsnych czasach pełnych podziałów\, kłótni i nieporozumień\, „da się zrozumieć” drugiego człowieka. Nieważne\, czy jest Ślązakiem\, Czechem\, mechanikiem\, dekarzem\, urzędnikiem. Nieważne na kogo głosuje i z kim śpi. Odrobina dobrej woli i wszystko „Da się zrozumieć”.
URL:https://www.pokladykultury.com.pl/event/zdolni-i-skromni-da-sie-zrozumiec/
LOCATION:Dom Muzyki i Tańca w Zabrzu\, ul. Gen. de Gaulle'a 17\, Zabrze\, śląskie\, 41-800\, Poland
ATTACH;FMTTYPE=image/jpeg:https://www.pokladykultury.com.pl/wp-content/uploads/2025/04/zisgraf25.jpg
END:VEVENT
BEGIN:VEVENT
DTSTART;TZID=Europe/Warsaw:20250518T220000
DTEND;TZID=Europe/Warsaw:20250519T000000
DTSTAMP:20260420T080102
CREATED:20250404T045048Z
LAST-MODIFIED:20250404T045048Z
UID:14669-1747605600-1747612800@www.pokladykultury.com.pl
SUMMARY:Zdolni i Skromni - Da się zrozumieć
DESCRIPTION:Ewelina (Sztefa)\, Łukasz (Brajan)\, Olga (blondynka z kabaretów)\, Andrzej (przystojniak z telewizji). Ta wesoła banda znana z Tik-Toka\, Facebooka i telewizji\, kolejny raz rusza w trasę. Wiosną na Śląsku\, jesienią w całej Polsce. Będą żartować. Będą szaleć. A przy tym\, nie będą brać jeńców. Wybawią was do ostatniej kropli śmiechu! \n„Da się zrozumieć”\, czyli po śląsku „połonaczy się to”. \nW TYM PROGRAMIE WSZYSTKO BĘDZIE NOWE! \nSkecze nowe\, piosenki nowe\, zapowiedzi nowe.\nJak zawsze znajdzie się co najmniej jeden śląski skecz o przygodach Sztefy i Brajana.\nJak zawsze historie będą bliskie prawdziwemu życiu.\nJak zawsze wszyscy będą Zdolni i Skromni. \nO czym będzie program? O tym\, że w tych nieszczęsnych czasach pełnych podziałów\, kłótni i nieporozumień\, „da się zrozumieć” drugiego człowieka. Nieważne\, czy jest Ślązakiem\, Czechem\, mechanikiem\, dekarzem\, urzędnikiem. Nieważne na kogo głosuje i z kim śpi. Odrobina dobrej woli i wszystko „Da się zrozumieć”.
URL:https://www.pokladykultury.com.pl/event/zdolni-i-skromni-da-sie-zrozumiec-2/
LOCATION:Dom Muzyki i Tańca w Zabrzu\, ul. Gen. de Gaulle'a 17\, Zabrze\, śląskie\, 41-800\, Poland
ATTACH;FMTTYPE=image/jpeg:https://www.pokladykultury.com.pl/wp-content/uploads/2025/04/zisgraf25.jpg
END:VEVENT
END:VCALENDAR