BEGIN:VCALENDAR
VERSION:2.0
PRODID:-//Pokładykultury.eu - ECPv5.16.3.1//NONSGML v1.0//EN
CALSCALE:GREGORIAN
METHOD:PUBLISH
X-ORIGINAL-URL:https://www.pokladykultury.com.pl
X-WR-CALDESC:Wydarzenia dla Pokładykultury.eu
REFRESH-INTERVAL;VALUE=DURATION:PT1H
X-Robots-Tag:noindex
X-PUBLISHED-TTL:PT1H
BEGIN:VTIMEZONE
TZID:Europe/Warsaw
BEGIN:DAYLIGHT
TZOFFSETFROM:+0100
TZOFFSETTO:+0200
TZNAME:CEST
DTSTART:20250330T010000
END:DAYLIGHT
BEGIN:STANDARD
TZOFFSETFROM:+0200
TZOFFSETTO:+0100
TZNAME:CET
DTSTART:20251026T010000
END:STANDARD
END:VTIMEZONE
BEGIN:VEVENT
DTSTART;TZID=Europe/Warsaw:20250917T183000
DTEND;TZID=Europe/Warsaw:20250917T210000
DTSTAMP:20260419T222627
CREATED:20250917T054014Z
LAST-MODIFIED:20250917T054014Z
UID:16428-1758133800-1758142800@www.pokladykultury.com.pl
SUMMARY:Seminarium "Zabrze - ziemia obiecana"
DESCRIPTION:Czy miasto może być obietnicą? Inspiracją? Lekcją historii i jednocześnie spojrzeniem w przyszłość?\nZapraszamy na seminarium „Zabrze – ziemia obiecana”\, które będzie podsumowaniem projektu „Reymont – reaktywacja” – poświęconego historii i tożsamości naszego miasta.\n \nData: 17.09.2025 r.Miejsce: Przedsiębiorstwo Górnicze Demex\, ul. Hagera 41\n 16:30 – startujemy wernisażem fotografii wykonanych podczas spacerów fotograficznych. Zabrze uchwycone oczami mieszkańców – autentyczne\, niebanalne\, pełne detali.\n 17:00 – rozpoczynamy część seminaryjną. W programie m.in.:• dr Zbigniew Barecki – Rewitalizacja obiektów poprzemysłowych• Dariusz Walerjański – Sytuacja wyznaniowa w Zabrzu• dr Sebastian Rosenbaum – Zabrze w 1945 roku• Magdalena Gościniak – Miasto obiecane? Czy Reymont czegoś nas nauczył?\nA na zakończenie – niepowtarzalna okazja zwiedzania zrewitalizowanej przestrzeni Kopalni Ludwik \n \nPrzekonajmy się\, że Zabrze to naprawdę ziemia obiecana!\nWstęp wolny\nSeminarium realizowane w ramach projektu „Reymont – reaktywacja”\, dofinansowanego ze środków Ministra Kultury i Dziedzictwa Narodowego w ramach programu Narodowego Centrum Kultury: Reymont. Interwencje. \nPokaż mniej
URL:https://www.pokladykultury.com.pl/event/seminarium-zabrze-ziemia-obiecana-2/
LOCATION:Przedsiębiorstwo Górnicze Demex\, ul. Hagera 41\, Zabrze\, śląskie\, Poland
ATTACH;FMTTYPE=image/jpeg:https://www.pokladykultury.com.pl/wp-content/uploads/2025/09/Zabrze-ziemia-obiecana.jpg
END:VEVENT
END:VCALENDAR