BEGIN:VCALENDAR
VERSION:2.0
PRODID:-//Pokładykultury.eu - ECPv5.16.3.1//NONSGML v1.0//EN
CALSCALE:GREGORIAN
METHOD:PUBLISH
X-WR-CALNAME:Pokładykultury.eu
X-ORIGINAL-URL:https://www.pokladykultury.com.pl
X-WR-CALDESC:Wydarzenia dla Pokładykultury.eu
REFRESH-INTERVAL;VALUE=DURATION:PT1H
X-Robots-Tag:noindex
X-PUBLISHED-TTL:PT1H
BEGIN:VTIMEZONE
TZID:Europe/Warsaw
BEGIN:DAYLIGHT
TZOFFSETFROM:+0100
TZOFFSETTO:+0200
TZNAME:CEST
DTSTART:20250330T010000
END:DAYLIGHT
BEGIN:STANDARD
TZOFFSETFROM:+0200
TZOFFSETTO:+0100
TZNAME:CET
DTSTART:20251026T010000
END:STANDARD
END:VTIMEZONE
BEGIN:VEVENT
DTSTART;TZID=Europe/Warsaw:20250706T200000
DTEND;TZID=Europe/Warsaw:20250706T230000
DTSTAMP:20260420T011739
CREATED:20250704T071639Z
LAST-MODIFIED:20250704T071639Z
UID:15484-1751832000-1751842800@www.pokladykultury.com.pl
SUMMARY:PotańczMY. Potańcówka na Placu Teatralnym
DESCRIPTION:W najbliższą niedzielę Plac Teatralny w Zabrzu zamieni się w prawdziwy parkiet pod chmurką! Czeka nas wieczór pełen muzyki\, tańca i radości – niezależnie od wieku czy umiejętności!\n \n6 lipca (niedziela)18:00–21:00\n \nDJ Witek zadba o najlepsze taneczne rytmyWstęp wolny – przyjdź\, potańcz\, po prostu baw się dobrze!\nZabierz rodzinę\, sąsiadów\, znajomych i dobry humor! Widzimy się na parkiecie – razem roztańczmy Zabrze!
URL:https://www.pokladykultury.com.pl/event/potanczmy-potancowka-na-placu-teatralnym/
LOCATION:Plac Teatralny\, Plac Teatralny 1\, Zabrze\, śląskie\, 41-800\, Poland
ATTACH;FMTTYPE=image/jpeg:https://www.pokladykultury.com.pl/wp-content/uploads/2025/07/Potancowka.jpg
END:VEVENT
BEGIN:VEVENT
DTSTART;TZID=Europe/Warsaw:20250713T133000
DTEND;TZID=Europe/Warsaw:20250713T190000
DTSTAMP:20260420T011739
CREATED:20250709T054321Z
LAST-MODIFIED:20250709T054321Z
UID:15515-1752413400-1752433200@www.pokladykultury.com.pl
SUMMARY:Plenerowa szkoła tańca i jogi
DESCRIPTION:Aktywne Zabrze i Miejski Ogród Botaniczny zapraszają do udziału w „Plenerowej szkole tańca i jogi”\, która odbędzie się w Miejskim Ogrodzie Botanicznym w Zabrzu w najbliższą niedzielę\, tj. 13 lipca 2025 r. o godz. 11:30. \n \nUdział jest bezpłatny\, ale obowiązuje biletowany wstęp do Ogrodu Botanicznego\, zgodnie z cennikiem. \nW czasie wydarzenia będzie działać Strefa Gastro\, której partnerem jest Zabrzański Gościniec\, dostępne więc będą przekąski i pyszna lemoniada. \nDo zobaczenia!
URL:https://www.pokladykultury.com.pl/event/plenerowa-szkola-tanca-i-jogi/
LOCATION:Miejski Ogród Botaniczny\, ul. Piłsudskiego 60\, Zabrze\, śląskie\, 41-800\, Poland
ATTACH;FMTTYPE=image/jpeg:https://www.pokladykultury.com.pl/wp-content/uploads/2025/07/Plenerowa-szkola-tanca-i-jogi_page-0001-2048x1152-1.jpg
END:VEVENT
BEGIN:VEVENT
DTSTART;TZID=Europe/Warsaw:20250720T200000
DTEND;TZID=Europe/Warsaw:20250720T230000
DTSTAMP:20260420T011739
CREATED:20250709T093413Z
LAST-MODIFIED:20250709T093413Z
UID:15521-1753041600-1753052400@www.pokladykultury.com.pl
SUMMARY:Potańcówka na Placu Teatralnym
DESCRIPTION:Wracamy na parkiet! Miasto Zabrze\, SCENA cocktail bar oraz Zabrzańska Agencja Realizacji Inwestycji zapraszają na kolejną POTAŃCÓWKĘ NA PLACU TEATRALNYM!\n\n\n \n20 lipca 2025 r.\nGodz. 18:00–21:00\nPlac Teatralny\, pod Teatr Nowy W Zabrzu\nWstęp wolny!\n\n\n \nZagra dla Was niezastąpiony Dj Witek Smieszek\nCzeka nas wieczór pełen świetnej muzyki\, tańca i wakacyjnej atmosfery – w samym sercu Śląska!\n\n\n \nZabierz znajomych\, rodzinę\, dobry humor i… ruszamy w tany!\nPotańcówka pod chmurką? To trzeba przeżyć!
URL:https://www.pokladykultury.com.pl/event/potancowka-na-placu-teatralnym/
LOCATION:Plac Teatralny\, Plac Teatralny 1\, Zabrze\, śląskie\, 41-800\, Poland
ATTACH;FMTTYPE=image/jpeg:https://www.pokladykultury.com.pl/wp-content/uploads/2025/07/Potancowka-20.07.jpg
END:VEVENT
END:VCALENDAR