BEGIN:VCALENDAR
VERSION:2.0
PRODID:-//Pokładykultury.eu - ECPv5.16.3.1//NONSGML v1.0//EN
CALSCALE:GREGORIAN
METHOD:PUBLISH
X-ORIGINAL-URL:https://www.pokladykultury.com.pl
X-WR-CALDESC:Wydarzenia dla Pokładykultury.eu
REFRESH-INTERVAL;VALUE=DURATION:PT1H
X-Robots-Tag:noindex
X-PUBLISHED-TTL:PT1H
BEGIN:VTIMEZONE
TZID:Europe/Warsaw
BEGIN:DAYLIGHT
TZOFFSETFROM:+0100
TZOFFSETTO:+0200
TZNAME:CEST
DTSTART:20230326T010000
END:DAYLIGHT
BEGIN:STANDARD
TZOFFSETFROM:+0200
TZOFFSETTO:+0100
TZNAME:CET
DTSTART:20231029T010000
END:STANDARD
END:VTIMEZONE
BEGIN:VEVENT
DTSTART;TZID=Europe/Warsaw:20231108T090000
DTEND;TZID=Europe/Warsaw:20231108T180000
DTSTAMP:20260425T164045
CREATED:20231108T114020Z
LAST-MODIFIED:20231108T114020Z
UID:9086-1699434000-1699466400@www.pokladykultury.com.pl
SUMMARY:Warsztaty co i jak warto czytać dziecku
DESCRIPTION:Miejska Biblioteka Publiczna zaprasza na cykl warsztatów Co i jak warto czytać dziecku. \n \nWarsztaty odbywać się będą w listopadowe czwartki w wypożyczalni popularnonaukowej w Zabrzu (ul. Wyzwolenia 4).\nNasze prelegentki wprowadzą uczestników w świat literatury dziecięcej\, opowiedzą\, co i jak warto czytać.\n \nSzczegółowy harmonogram:\n9.11.2023 godzina 17:00 Justyna Konieczny\n16.11. 2023 godzina 18:00 Edyta Antoniak-Kiedos\n23.11. 2023 godzina 17:00 Malwina Kożurno\n30.11.2023 godzina 18:00 Grażyna Świderek\n \nRezerwacja miejsc: (32) 271 19 80 warsztaty@biblioteka.zabrze.pl\n \nNasze prelegentki:\nJustyna Konieczny\nBibliotekarka wierząca\, że książka może przyciągnąć do biblioteki każdego\, trzeba mieć tylko dobry pomysł. Wdraża w życie projekty kulturalne\, edukacyjne i rozrywkowe skierowane przede wszystkim do dzieci i ich rodziców. Autorka i realizatorka programu „Rodzinne czytanie – wyobraźni odkrywanie”\n \nEdyta Antoniak-Kiedos\nRedaktorka naczelna kwartalnika Guliwer\, czasopisma o książce dla dziecka. Krytyk literacki\, publicystka\, regionalistka\, animatorka kultury\, wykładowczyni\, doktor nauk humanistycznych\, Prodziekan Wydziału Nauk Stosowanych Akademii WSB. Stypendystka Marszałka Województwa Śląskiego w Dziedzinie Kultury.\n \nMalwina Kożurno\nLektorka\, animatorka\, na stałe współpracuje z autorką książek dla dzieci i młodzieży\, Renatą Piątkowską. Czyta na spotkaniach autorskich\, nagrywa audiobooki\, prowadzi warsztaty lektorskie dla dzieci\, młodzieży i dorosłych.\n \nGrażyna Świderek\nBibliotekarka\, animatorka\, moderatorka DKK. Pomysłodawczyni oraz wykonawczyni warsztatów i spotkań dla dzieci w MBP w Zabrzu. Fascynatka literatury dziecięcej\, mocno wierząca\, że „nie ma dzieci\, które nie lubią czytać\, są takie\, które nie trafiły na „swoją książkę”\n \nWarsztaty realizowane są w ramach projektu Książka na szóstkę\, wypełniamy pustkę\, dofinansowanego ze środków Ministra Kultury i Dziedzictwa Narodowego pochodzących z Funduszu Promocji Kultury — państwowego funduszu celowego.
URL:https://www.pokladykultury.com.pl/event/warsztaty-co-i-jak-warto-czytac-dziecku/
LOCATION:MBP Wypożyczalnia Popularnonaukowa\, ul. Wyzwolenia 4\, Zabrze\, śląskie\, 41-800\, Poland
ATTACH;FMTTYPE=image/jpeg:https://www.pokladykultury.com.pl/wp-content/uploads/2023/11/warsztaty-co-i-jak.jpg
END:VEVENT
BEGIN:VEVENT
DTSTART;TZID=Europe/Warsaw:20231117T103000
DTEND;TZID=Europe/Warsaw:20231117T180000
DTSTAMP:20260425T164045
CREATED:20231115T092556Z
LAST-MODIFIED:20231115T092556Z
UID:9206-1700217000-1700244000@www.pokladykultury.com.pl
SUMMARY:Sympozjum Młodych Sportowców "Pasje\, motywacje\, wyzwania"
DESCRIPTION:Miasto Zabrze zaprasza w piątek\, 17 listopada\, do obiektu Aquarius Kopernik (al. Wojciecha Korfantego 18) na Sympozjum Młodych Sportowców „PASJE\, MOTYWACJE\, WYZWANIA”.\nSympozjum adresowane jest do wszystkich RODZICÓW\, NAUCZYCIELI\, TRENERÓW.\n \n\n\nPanel pierwszy – „Życie to ciągłe wybory? Najważniejsze czynniki składające się na sukces sportowy młodego człowieka.”\n\n\nPoruszane problemy/tematy:\n– co daje sport?\n– ograniczenia\n– możliwości\n– motywacja\n– jakie są problemy\n– jak wygląda praca z młodzieżą?\nGoście\n prof. dr hab. inż. Marek Gzik – założyciel i dyrektor EHTIC Europejskiego Centrum Innowacyjnych Technologii dla Zdrowia Politechniki Śląskiej\n Adam Matysek – Prezes Zarządu Górnika Zabrze S.A.\, były bramkarz klubów Ekstraklasy oraz Bundesligi\, 34-krotny Reprezentacji Polski\n Katarzyna-Weber Radzimska\, Adam Radzimski – Rodzice Antka Radzimskiego\, 11-letniego szachisty z osiągnięciami na arenie krajowej i międzynarodowej\n Grzegorz „Gabor” Jędrzejewski – bramkarz Reprezentacji Artystów Polskich\, Reprezentacji Dziennikarzy\, współprowadzący program TurboKozak\n Dariusz Mogielnicki – były zawodnik klubu Górnik Zabrze Piłka Ręczna\, obecnie prezes klub SPR Górnik Zabrze\n Dawid Zimkowski – medalista Światowych Igrzysk Osób po Transplantacji\, które odbyły się w Australii w dn. 14-22.04.2023 r.\n dr Agnieszka Koszałka-Silska – doktor nauk medycznych i nauk o zdrowiu w dyscyplinie nauk o kulturze fizycznej zatrudniona na AWF w Poznaniu\, certyfikowany trener outdoor education\n Marzena Jarząbek – nauczyciel wychowania fizycznego w szkole specjalnej\, fizjoterapeuta\, oligofrenopedagog\n\n\n \nPanel drugi – „Czy dążąc do sukcesu sportowego musimy rezygnować z samych siebie? Doświadczenie\, a dążenie do osiągnięcia celu.”\n\n\nTrudności\, które musieli pokonać w dążeniu do celu? Skąd czerpali motywację i siłę? Rady\, wskazówki i podpowiedzi dla osób szukających swojej sportowej drogi w życiu.\nGoście\n Sebastian Kawa – multimedalista Mistrzostw Świata i Europy w szybownictwie\n Daniel Wisiński – zawodnik SPR Górnik Zabrze\, reprezentant Polski juniorów\n\n\n \nCzęść trzecia – Bezpłatne warsztaty Outdoor Education\, czyli jak budować drużyny\, uczyć współpracy i zaufania oraz integrować uczniów? (na warsztaty obowiązują zapisy)\n\n\nCele Warsztatu:\n– pokaz zajęć i materiałów do wykorzystania na lekcji WF\, treningach\, zajęciach dla dzieci i młodzieży\n– integracja\, doskonalenie umiejętności dydaktycznych i metodycznych uczestników\n– doskonalenie współpracy\, budowania zaufania uczestników\n\n\nBazą warsztatu jest koncepcja „outdoor education” czyli metody\, która ma na celu rozwój psychiczny\, fizyczny i społeczny dzieci i młodzieży poprzez aktywność fizyczną w plenerze. Uczestnicy zajęć stawiani są przed „wyzwaniami”\, które wymagają aktywności fizycznej oraz współpracy\, komunikacji i budowania wspólnej strategii. Zadania możliwe są do zrealizowania tylko wtedy\, gdy uczestnicy ze sobą współpracują.\n\n\nW skrócie: zero teorii\, maksimum doświadczania i uczenia się przez doświadczenie\n\n\n \nRoboczy harmonogram:\n\n\n9.30 – 10.00 – rozpoczęcie i powitanie gości\n10.00 – 12.00 – I panel (trenerzy\, nauczycieli i rodzice)\n12.00 – 12.30 – przerwa kawowa\n12.30 – 13.15 – II panel („doświadczony sportowiec” i „młody sportowiec”\n13.15 – 14.15 – Warsztaty Outdoor Education
URL:https://www.pokladykultury.com.pl/event/sympozjum-mlodych-sportowcow-pasje-motywacje-wyzwania/
LOCATION:Zabrzański Kompleks Rekreacji „Aquarius Kopernik”\, Al. Wojciecha Korfantego 18\, Zabrze\, śląskie\, 41-800\, Poland
ATTACH;FMTTYPE=image/jpeg:https://www.pokladykultury.com.pl/wp-content/uploads/2023/11/Pasje-motywacje.jpg
END:VEVENT
END:VCALENDAR