BEGIN:VCALENDAR
VERSION:2.0
PRODID:-//Pokładykultury.eu - ECPv5.16.3.1//NONSGML v1.0//EN
CALSCALE:GREGORIAN
METHOD:PUBLISH
X-ORIGINAL-URL:https://www.pokladykultury.com.pl
X-WR-CALDESC:Wydarzenia dla Pokładykultury.eu
REFRESH-INTERVAL;VALUE=DURATION:PT1H
X-Robots-Tag:noindex
X-PUBLISHED-TTL:PT1H
BEGIN:VTIMEZONE
TZID:Europe/Warsaw
BEGIN:DAYLIGHT
TZOFFSETFROM:+0100
TZOFFSETTO:+0200
TZNAME:CEST
DTSTART:20250330T010000
END:DAYLIGHT
BEGIN:STANDARD
TZOFFSETFROM:+0200
TZOFFSETTO:+0100
TZNAME:CET
DTSTART:20251026T010000
END:STANDARD
END:VTIMEZONE
BEGIN:VEVENT
DTSTART;TZID=Europe/Warsaw:20250327T160000
DTEND;TZID=Europe/Warsaw:20250327T190000
DTSTAMP:20260422T075852
CREATED:20250319T081143Z
LAST-MODIFIED:20250319T081143Z
UID:14417-1743091200-1743102000@www.pokladykultury.com.pl
SUMMARY:Szydełkowe Opowieści - wiosna!
DESCRIPTION:Miłośnicy rękodzieła!\n \nZapraszamy Was na kolejne spotkanie „Szydełkowe opowieści” – poczujemy pierwsze promienie wiosny… a jeśli ich zabraknie\, przywołamy je sami! Wspólnie stworzymy wiosenne i świąteczne ozdoby!\n \n 27 marca (środa) 15:00–18:00 Filia nr 9\, ul. Paderewskiego 35\n \nNiezależnie od tego\, czy dopiero zaczynacie swoją przygodę z szydełkiem\, czy już dobrze się z nim dogadujecie – zapraszamy! Razem stworzymy nie tylko ozdoby\, ale i fantastyczną atmosferę! \nDo zobaczenia! 
URL:https://www.pokladykultury.com.pl/event/szydelkowe-opowiesci-wiosna/
LOCATION:MBP Filia nr 9\, ul. Paderewskiego 35\, Zabrze\, śląskie\, 41-800\, Poland
ATTACH;FMTTYPE=image/jpeg:https://www.pokladykultury.com.pl/wp-content/uploads/2025/03/Szydelkowe-opowiesci-wiosna.jpg
END:VEVENT
BEGIN:VEVENT
DTSTART;TZID=Europe/Warsaw:20250328T190000
DTEND;TZID=Europe/Warsaw:20250328T210000
DTSTAMP:20260422T075852
CREATED:20250327T075317Z
LAST-MODIFIED:20250327T075317Z
UID:14564-1743188400-1743195600@www.pokladykultury.com.pl
SUMMARY:Warsztaty tworzenia perfum w Teatrze Nowym
DESCRIPTION:Zanurz się w magiczny świat zapachów i odkryj sztukę komponowania własnych perfum!Perfumeria Niszowa Figarola zaprasza na wyjątkowe warsztaty\, które odbędą się w niezwykłych wnętrzach Teatru Nowego w Zabrzu.Pod czujnym nosem eksperta z Bale Perfumes stworzysz unikalną kompozycję zapachową\, dopasowaną do Ciebie – Twojej osobowości\, wspomnień i emocji. To będzie prawdziwa uczta dla zmysłów!Jest jeszcze kilka wolnych miejsc!Zadzwoń 573 157 431 i podaj hasło „ZAPACH TEATRU”\, a otrzymasz specjalną zniżkę na udział w warsztatach!Liczba miejsc ograniczona – nie zwlekaj\, zapisz się już dziś!Kiedy: Piątek\, 28 marca\, godz. 18:00Gdzie: Teatr Nowy w Zabrzu
URL:https://www.pokladykultury.com.pl/event/warsztaty-tworzenia-perfum-w-teatrze-nowym/
LOCATION:Teatr Nowy w Zabrzu\, Plac Teatralny 1\, Zabrze\, śląskie\, 41-800\, Poland
ATTACH;FMTTYPE=image/jpeg:https://www.pokladykultury.com.pl/wp-content/uploads/2025/03/Tworzenie-perfum.jpg
END:VEVENT
BEGIN:VEVENT
DTSTART;TZID=Europe/Warsaw:20250329T110000
DTEND;TZID=Europe/Warsaw:20250329T160000
DTSTAMP:20260422T075852
CREATED:20250327T074845Z
LAST-MODIFIED:20250327T074845Z
UID:14561-1743246000-1743264000@www.pokladykultury.com.pl
SUMMARY:OBERIBA - Warsztaty tworzenia budek lęgowych
DESCRIPTION:OBERIBA – Rokitnicki Ogród Społeczny zaprasza 29 marca 2025 (sobota) o godz. 10:00 i 13:00 na bezpłatne warsztaty rękodzielnicze\, podczas których własnoręcznie zbudujecie budki lęgowe dla ptaków! To idealna okazja\, by nauczyć się czegoś nowego\, zrobić coś dobrego dla natury i wspólnie działać na rzecz naszej planety!\n\n\n \nDwie grupy warsztatowe – liczba miejsc ograniczona!\n\n\nDla kogo: Warsztaty przeznaczone są dla osób mieszkających\, uczących się lub pracujących w Zabrzu\, od 15. roku życia.\n\n\nZapisy obowiązkowe. Przez wiadomość na FB: Oberiba – Rokitnicki Ogród Społeczny lub e-mail: oberiba.rokitnica@gmail.com.\n \n\n\nUwaga: Projekt finansowany z funduszy unijnych – udział wymaga wypełnienia krótkiej ankiety z danymi uczestnika.\n\n\nProjekt realizowany w ramach: Centrum Sprawiedliwej Transformacji w Zabrzu (Fundusz na rzecz Sprawiedliwej Transformacji).\n\n\n \nNie zwlekaj – liczba miejsc szybko znika!\nRazem zadbajmy o ptaki i środowisko – zróbmy coś dobrego!
URL:https://www.pokladykultury.com.pl/event/oberiba-warsztaty-tworzenia-budek-legowych/
LOCATION:Ogród Społeczny Oberiba\, ul. Wyszyńskiego 17\, Zabrze\, śląskie\, 41-800\, Poland
ATTACH;FMTTYPE=image/jpeg:https://www.pokladykultury.com.pl/wp-content/uploads/2025/03/Warsztaty-29.03.jpg
END:VEVENT
BEGIN:VEVENT
DTSTART;TZID=Europe/Warsaw:20250331T180000
DTEND;TZID=Europe/Warsaw:20250331T220000
DTSTAMP:20260422T075852
CREATED:20250320T090507Z
LAST-MODIFIED:20250320T090507Z
UID:14457-1743444000-1743458400@www.pokladykultury.com.pl
SUMMARY:Spotkanie z klockami
DESCRIPTION:Miejska Biblioteka Publiczna w Zabrzu zaprasza na warsztaty z budowania z klocków LEGO.\nTo doskonała okazja\, aby puścić wodze wyobraźni\, zanurzyć się w świecie kreatywności i spędzić czas w inspirującej atmosferze.\n \nCo nas czeka?• Tworzenie unikalnych konstrukcji z klocków LEGO• Ćwiczenie wyobraźni i rozwiązywania problemów• Zabawa i nauka w jednym!\n \nKiedy? 31 marca 2025 o 16.00Gdzie? Filia nr 9\, ul. Paderewskiego 35Dla kogo? Dla wszystkich – małych i dużych\, początkujących i mistrzów LEGO!\n \nDołącz do naszej społeczności budowniczych i stwórz coś wyjątkowego. Twoja wyobraźnia nie ma granic – tak jak możliwości LEGO. \n \nNa warsztaty obowiązują zapisy pod numerem telefonu (32) 275 05 24.\nWarsztaty odbywają się w ramach projektu „Biblioteka dla wszystkich. Wspólne pasje”\, realizowanego przez FRSI w partnerstwie z Save the Children International.\n \nZapraszamy serdecznie
URL:https://www.pokladykultury.com.pl/event/spotkanie-z-klockami/
LOCATION:MBP Filia nr 9\, ul. Paderewskiego 35\, Zabrze\, śląskie\, 41-800\, Poland
ATTACH;FMTTYPE=image/jpeg:https://www.pokladykultury.com.pl/wp-content/uploads/2025/03/Spotkanie-z-klockami.jpg
END:VEVENT
END:VCALENDAR