BEGIN:VCALENDAR
VERSION:2.0
PRODID:-//Pokładykultury.eu - ECPv5.16.3.1//NONSGML v1.0//EN
CALSCALE:GREGORIAN
METHOD:PUBLISH
X-ORIGINAL-URL:https://www.pokladykultury.com.pl
X-WR-CALDESC:Wydarzenia dla Pokładykultury.eu
REFRESH-INTERVAL;VALUE=DURATION:PT1H
X-Robots-Tag:noindex
X-PUBLISHED-TTL:PT1H
BEGIN:VTIMEZONE
TZID:Europe/Warsaw
BEGIN:DAYLIGHT
TZOFFSETFROM:+0100
TZOFFSETTO:+0200
TZNAME:CEST
DTSTART:20250330T010000
END:DAYLIGHT
BEGIN:STANDARD
TZOFFSETFROM:+0200
TZOFFSETTO:+0100
TZNAME:CET
DTSTART:20251026T010000
END:STANDARD
END:VTIMEZONE
BEGIN:VEVENT
DTSTART;TZID=Europe/Warsaw:20250404T180000
DTEND;TZID=Europe/Warsaw:20250404T210000
DTSTAMP:20260422T094701
CREATED:20250326T070833Z
LAST-MODIFIED:20250326T070833Z
UID:14531-1743789600-1743800400@www.pokladykultury.com.pl
SUMMARY:PAL-DZIELNIA Niekomercyjna Wymiana Kwiatów
DESCRIPTION:Centrum Usług Społecznych zaprasza na Wymianę Kwiatową & Warsztaty – dołącz do zielonej inicjatywy! \nMasz rośliny\, którymi chcesz się podzielić? A może szukasz nowych okazów do swojej kolekcji? Podczas wymiany kwiatowej możesz przynieść sadzonki\, nasiona czy cebulki i wymienić się z innymi – bezgotówkowo i w duchu ekologii.To nie tylko wymiana roślin! W trakcie wydarzenia Ogród Botaniczny poprowadzi inspirujące warsztaty\, a dodatkową atrakcją będą kreatywne zajęcia Botanical Bricks.Przyjdź\, wymień się\, zainspiruj i weź udział w warsztatach!Dziękujemy również za pomoc w przygotowaniu materiałów na warsztaty Funkcjonariuszom Areszt Śledczy w Bytomiu Oddziału Zewnętrzny w Zabrzu oraz osadzonym zaangażowanym w przygotowania.Miejski Ogród Botaniczny w ZabrzuAkademia inspiracjiMOPR Zabrze
URL:https://www.pokladykultury.com.pl/event/pal-dzielnia-niekomercyjna-wymiana-kwiatow/
LOCATION:Centrum Usług Społecznych\, ul. Stalmacha 7\, Zabrze\, śląskie\, Poland
ATTACH;FMTTYPE=image/jpeg:https://www.pokladykultury.com.pl/wp-content/uploads/2025/03/wymiana-kwiatowa.jpg
END:VEVENT
BEGIN:VEVENT
DTSTART;TZID=Europe/Warsaw:20250416T180000
DTEND;TZID=Europe/Warsaw:20250416T203000
DTSTAMP:20260422T094701
CREATED:20250414T054718Z
LAST-MODIFIED:20250414T054718Z
UID:14769-1744826400-1744835400@www.pokladykultury.com.pl
SUMMARY:Świąteczne zdobienie jajek
DESCRIPTION:Wajzera 21 Społeczny Dom Kultury zaprasza na warsztaty zrobienia jajek wielkanocnych – metodami tradycyjnymi\, w naturalnych barwnikach oraz .. po nowemu  Dla całych rodzin! Weźcie ze sobą ugotowane jajka – najlepiej białe! Warsztaty rodzinne\nProwadzi: Marlena Małek-Błaszczyk & Mirelka Dudek\n \nUdział bezpłatny…\n… Ale jeśli chcesz – wesprzyj działanie społecznego domu kultury – wpłać na zrzutkę https://zrzutka.pl/6n6pkylub zostań patronem i wpłacaj miesięcznie https://patronite.pl/Wajzera21
URL:https://www.pokladykultury.com.pl/event/swiateczne-zdobienie-jajek/
LOCATION:Społeczny Dom Kultury – Wajzera21\, ul. Wajzera 21\, Zabrze\, śląskie\, Poland
ATTACH;FMTTYPE=image/jpeg:https://www.pokladykultury.com.pl/wp-content/uploads/2025/04/Swiateczne-Zdobienie-JAjek.jpg
END:VEVENT
BEGIN:VEVENT
DTSTART;TZID=Europe/Warsaw:20250417T150000
DTEND;TZID=Europe/Warsaw:20250417T200000
DTSTAMP:20260422T094701
CREATED:20250415T075515Z
LAST-MODIFIED:20250415T075515Z
UID:14798-1744902000-1744920000@www.pokladykultury.com.pl
SUMMARY:Wypleć sobie koszyk
DESCRIPTION:Centrum Sprawiedliwej Transformacji zaprasza na warsztaty WYPLEĆ SOBIE KOSZYK.\n\n\n \n czwartek 17.04\n g.13.00 grupa 1\n g.17.00 grupa 2\n Zabrze\, ul.Dorotki 3\n\n\nZapisy: sms 733 086 620 lub kontakt.centrumzabrze@gmail.com\nIlość miejsc ograniczona\n\n\n \nWarsztaty są bezpłatne\, dedykowane osobom dorosłym oraz młodzieży od 15 roku życia\, mieszkającym\, pracującym lub uczącym się w Zabrzu.\n\n\nZapewniamy niezbędne materiały  i poczęstunek.\n\n\n \nProjekt „Centrum Sprawiedliwej Transformacji w Zabrzu” FESL.10.24-IZ.01-05GH/23 realizowany w ramach Fundusze Europejskie dla Śląskiego 2021-2027 (Fundusz na rzecz Sprawiedliwej Transformacji) dla Priorytetu: FESL.10.00 – Fundusze Europejskie na transformację dla Działania: FESL.10.24 – Włączenie społeczne – wzmocnienie procesu sprawiedliwej transformacji.
URL:https://www.pokladykultury.com.pl/event/wyplec-sobie-koszyk/
LOCATION:Dzielnicowy Ośrodek Kultury Kończyce\, ul. Dorotki 3\, Zabrze\, śląskie\, 41-800\, Poland
ATTACH;FMTTYPE=image/jpeg:https://www.pokladykultury.com.pl/wp-content/uploads/2025/04/Wyplec-sobie-koszyk.jpg
END:VEVENT
BEGIN:VEVENT
DTSTART;TZID=Europe/Warsaw:20250427T140000
DTEND;TZID=Europe/Warsaw:20250427T180000
DTSTAMP:20260422T094701
CREATED:20250425T040818Z
LAST-MODIFIED:20250425T040818Z
UID:14887-1745762400-1745776800@www.pokladykultury.com.pl
SUMMARY:XXXII Tydzień Ziemi
DESCRIPTION:Zapraszamy do wspólnego świętowania Tygodnia Ziemi w niezwykłym miejscu – Sztolni Królowa Luiza w Zabrzu! To wyjątkowe wydarzenie\, pełne edukacji\, zabawy i ekologicznych inicjatyw\, które pozwolą nam jeszcze lepiej zadbać o naszą planetę. \nW programie: \n\nWarsztaty rękodzielnicze – kreatywne zajęcia dla rodzin z dziećmi\, podczas których będzie można stworzyć ekologiczne ozdoby i pamiątki.\nZajęcia sportowe i animacje – aktywne zabawy\, które umilą czas najmłodszym i zapewnią mnóstwo radości.\nWspólne sadzenie roślin – działania na rzecz środowiska\, które pomogą zazielenić przestrzeń wokół nas.\n\n  \nDołącz do nas i razem uczyńmy świat piękniejszym miejscem!
URL:https://www.pokladykultury.com.pl/event/xxxii-tydzien-ziemi/
LOCATION:Park 12C\, Sztolnia Królowa Luiza\, ul. M. Mochnackiego 12\, Zabrze\, śląskie\, 41-800\, Poland
ATTACH;FMTTYPE=image/jpeg:https://www.pokladykultury.com.pl/wp-content/uploads/2025/04/Tydzien-ziemi-w-Sztolni-nowy-termin.jpg
END:VEVENT
END:VCALENDAR