BEGIN:VCALENDAR
VERSION:2.0
PRODID:-//Pokładykultury.eu - ECPv5.16.3.1//NONSGML v1.0//EN
CALSCALE:GREGORIAN
METHOD:PUBLISH
X-ORIGINAL-URL:https://www.pokladykultury.com.pl
X-WR-CALDESC:Wydarzenia dla Pokładykultury.eu
REFRESH-INTERVAL;VALUE=DURATION:PT1H
X-Robots-Tag:noindex
X-PUBLISHED-TTL:PT1H
BEGIN:VTIMEZONE
TZID:Europe/Warsaw
BEGIN:DAYLIGHT
TZOFFSETFROM:+0100
TZOFFSETTO:+0200
TZNAME:CEST
DTSTART:20250330T010000
END:DAYLIGHT
BEGIN:STANDARD
TZOFFSETFROM:+0200
TZOFFSETTO:+0100
TZNAME:CET
DTSTART:20251026T010000
END:STANDARD
END:VTIMEZONE
BEGIN:VEVENT
DTSTART;TZID=Europe/Warsaw:20250510T140000
DTEND;TZID=Europe/Warsaw:20250510T200000
DTSTAMP:20260420T235549
CREATED:20250509T052125Z
LAST-MODIFIED:20250509T075640Z
UID:15023-1746885600-1746907200@www.pokladykultury.com.pl
SUMMARY:Dni Funduszy Europejskich
DESCRIPTION:Dni Funduszy Europejskich to nowa odsłona dotychczasowej akcji Dni Otwartych Funduszy Europejskich (DOFE)\, która w tym roku zaskoczy Was jeszcze większą dawką atrakcji i inspiracji!\n\n \nZaczynamy 10 maja eko-piknikiem rodzinnym w Parku 12C Sztolni Królowa Luiza w Zabrzu. Jakie atrakcje na Was czekają?\n\nTworzenie ekologicznych gadżetów – stwórz torbę\, biżuterię z recyklingu lub inne przedmioty z surowców wtórnych.\nMini-ogrodnictwo – nauka sadzenia roślin w doniczkach z recyklingu – każdy uczestnik wróci z warsztatów z własną sadzonką.\nEksperymenty ekologiczne – interaktywne doświadczenia\, które pokażą\, jak działa natura\, np. oczyszczanie wody czy tworzenie domowego kompostu.\nCo mają ze sobą wspólnego recykling i muzyka – warsztaty dla dzieci\, podczas których uczestnicy będą mogli zagrać w Orkiestrze z Odzysku.\nFotobudka ekologiczna – zrób sobie pamiątkowe zdjęcie z wydarzenia.\nTworzenie lasu w słojach.\nKuchnia Zero Waste – warsztat z tworzenia jedzenia opartego na idei niemarnowania żywności.\nTworzenie eko-kosmetyków i środków czystości (np. naturalne mydła/płyny do mycia szyb).\nWarsztaty z robienia „woskowijek” wielokrotnego użytku.\n\nWydarzenie jest bezpłatne.\nWięcej informacji na temat nadchodzących wydarzeń znajdziesz na stronie: https://funduszeue.slaskie.pl/…/dni-funduszy…
URL:https://www.pokladykultury.com.pl/event/dni-funduszy-europejskich/
LOCATION:Park 12C\, Sztolnia Królowa Luiza\, ul. M. Mochnackiego 12\, Zabrze\, śląskie\, 41-800\, Poland
ATTACH;FMTTYPE=image/png:https://www.pokladykultury.com.pl/wp-content/uploads/2025/05/PLAKAT-WARSZTATY-KOPALNIA-KROLOWA-LUIZA_ZABRZE-poprawa-e1746775266977.png
END:VEVENT
BEGIN:VEVENT
DTSTART;TZID=Europe/Warsaw:20250530T180000
DTEND;TZID=Europe/Warsaw:20250531T000000
DTSTAMP:20260420T235549
CREATED:20250515T081134Z
LAST-MODIFIED:20250515T081134Z
UID:15088-1748628000-1748649600@www.pokladykultury.com.pl
SUMMARY:Dialog możliwości
DESCRIPTION:Zanurz się w głębię możliwości. Nie tylko konferencja. To doświadczenie\, które zostaje z Tobą na długo.\n\n\n \n30 maja 2025\nKopalnia Guido\, Zabrze – 320 metrów pod ziemią\, by wynieść Twoją wiedzę i relacje na wyższy poziom!\nSpotkania z ekspertami\, praktyczne narzędzia\, historie\, które poruszają\, i atmosfera\, jakiej nie znajdziesz nigdzie indziej.\n\n\nA do tego:\nunikalne gifty |  nagrody |  networking z prelegentami\n\n\nLiczba miejsc ograniczona – nie czekaj!\nZarezerwuj swoje miejsce już dziś: dialogmozliwosci.pl\n\n\n \nKask obowiązkowy (mamy przygotowane)… bo wchodzimy głęboko – w rozwój\, inspiracje i realne możliwości!\n\nNie tylko konferencja\, to ciekawe doświadczenie\, które zostaje z Tobą na długo bo odbędzie się w podziemnym królestwie maszyn i czarnego złota\, czyli w królestwie Skarbnika na poziomie 320 m w zabytkowej kopalni Guido. Warto skorzystać\, warto posłuchać\, warto poznać ciekawych ludzi.
URL:https://www.pokladykultury.com.pl/event/dialog-mozliwosci/
LOCATION:Kopalnia Guido\, ul. 3 Maja 93\, Zabrze\, śląskie\, 41-800\, Poland
ATTACH;FMTTYPE=image/jpeg:https://www.pokladykultury.com.pl/wp-content/uploads/2025/05/dialog-mozliwosci.jpg
END:VEVENT
BEGIN:VEVENT
DTSTART;TZID=Europe/Warsaw:20250530T190000
DTEND;TZID=Europe/Warsaw:20250531T000000
DTSTAMP:20260420T235549
CREATED:20250516T072838Z
LAST-MODIFIED:20250516T072839Z
UID:15100-1748631600-1748649600@www.pokladykultury.com.pl
SUMMARY:Kino Plenerowe
DESCRIPTION:DZIEŃ MATKI + DZIEŃ DZIECKA = ŚWIĘTO RODZINY!\n\n\nDzielnicowy Ośrodek Kultury w Kończycach zaprasza w piątek\, 30 maja o godz. 17:00 na wyjątkowe popołudnie pełne kolorów\, radości i wspólnego świętowania!\n\n\n\ngodz. 17:00 Rodzinne warsztaty kreatywne „KOLOROWY ŚWIAT” – twórzcie razem\, bawcie się i spędźcie czas twórczo!\nSłodki poczęstunek\nBezpłatne lody i gofry dla każdego!\n\n\n\n\ngodz. 20:00 Kino plenerowe pod gwiazdami – film familijny: „WIKI I JEJ SEKRET” – piękna\, wzruszająca opowieść idealna na wieczór z bliskimi.\nLeżaki\, dobra atmosfera i niezapomniane wspomnienia – wszystko czeka na Was w Kończycach!
URL:https://www.pokladykultury.com.pl/event/kino-plenerowe/
LOCATION:Dzielnicowy Ośrodek Kultury Kończyce\, ul. Dorotki 3\, Zabrze\, śląskie\, 41-800\, Poland
ATTACH;FMTTYPE=image/jpeg:https://www.pokladykultury.com.pl/wp-content/uploads/2025/05/Kino-plenerowe.jpg
END:VEVENT
END:VCALENDAR