BEGIN:VCALENDAR
VERSION:2.0
PRODID:-//Pokładykultury.eu - ECPv5.16.3.1//NONSGML v1.0//EN
CALSCALE:GREGORIAN
METHOD:PUBLISH
X-WR-CALNAME:Pokładykultury.eu
X-ORIGINAL-URL:https://www.pokladykultury.com.pl
X-WR-CALDESC:Wydarzenia dla Pokładykultury.eu
REFRESH-INTERVAL;VALUE=DURATION:PT1H
X-Robots-Tag:noindex
X-PUBLISHED-TTL:PT1H
BEGIN:VTIMEZONE
TZID:Europe/Warsaw
BEGIN:DAYLIGHT
TZOFFSETFROM:+0100
TZOFFSETTO:+0200
TZNAME:CEST
DTSTART:20250330T010000
END:DAYLIGHT
BEGIN:STANDARD
TZOFFSETFROM:+0200
TZOFFSETTO:+0100
TZNAME:CET
DTSTART:20251026T010000
END:STANDARD
END:VTIMEZONE
BEGIN:VEVENT
DTSTART;TZID=Europe/Warsaw:20250327T160000
DTEND;TZID=Europe/Warsaw:20250327T190000
DTSTAMP:20260425T154156
CREATED:20250319T081143Z
LAST-MODIFIED:20250319T081143Z
UID:14417-1743091200-1743102000@www.pokladykultury.com.pl
SUMMARY:Szydełkowe Opowieści - wiosna!
DESCRIPTION:Miłośnicy rękodzieła!\n \nZapraszamy Was na kolejne spotkanie „Szydełkowe opowieści” – poczujemy pierwsze promienie wiosny… a jeśli ich zabraknie\, przywołamy je sami! Wspólnie stworzymy wiosenne i świąteczne ozdoby!\n \n 27 marca (środa) 15:00–18:00 Filia nr 9\, ul. Paderewskiego 35\n \nNiezależnie od tego\, czy dopiero zaczynacie swoją przygodę z szydełkiem\, czy już dobrze się z nim dogadujecie – zapraszamy! Razem stworzymy nie tylko ozdoby\, ale i fantastyczną atmosferę! \nDo zobaczenia! 
URL:https://www.pokladykultury.com.pl/event/szydelkowe-opowiesci-wiosna/
LOCATION:MBP Filia nr 9\, ul. Paderewskiego 35\, Zabrze\, śląskie\, 41-800\, Poland
ATTACH;FMTTYPE=image/jpeg:https://www.pokladykultury.com.pl/wp-content/uploads/2025/03/Szydelkowe-opowiesci-wiosna.jpg
END:VEVENT
END:VCALENDAR