BEGIN:VCALENDAR
VERSION:2.0
PRODID:-//Pokładykultury.eu - ECPv5.16.3.1//NONSGML v1.0//EN
CALSCALE:GREGORIAN
METHOD:PUBLISH
X-ORIGINAL-URL:https://www.pokladykultury.com.pl
X-WR-CALDESC:Wydarzenia dla Pokładykultury.eu
REFRESH-INTERVAL;VALUE=DURATION:PT1H
X-Robots-Tag:noindex
X-PUBLISHED-TTL:PT1H
BEGIN:VTIMEZONE
TZID:Europe/Warsaw
BEGIN:DAYLIGHT
TZOFFSETFROM:+0100
TZOFFSETTO:+0200
TZNAME:CEST
DTSTART:20250330T010000
END:DAYLIGHT
BEGIN:STANDARD
TZOFFSETFROM:+0200
TZOFFSETTO:+0100
TZNAME:CET
DTSTART:20251026T010000
END:STANDARD
END:VTIMEZONE
BEGIN:VEVENT
DTSTART;TZID=Europe/Warsaw:20250917T190000
DTEND;TZID=Europe/Warsaw:20250917T210000
DTSTAMP:20260420T051605
CREATED:20250917T044622Z
LAST-MODIFIED:20250917T044622Z
UID:16399-1758135600-1758142800@www.pokladykultury.com.pl
SUMMARY:Warsztaty tworzenia zakładek do książek
DESCRIPTION:Zapraszamy na kreatywne warsztaty\, podczas których każdy uczestnik wykona własnoręcznie – unikalne zakładki do książek! To idealna okazja\, by połączyć pasję do rękodzieła z miłością do czytania.\n \nW trakcie warsztatów: \n\npoznasz różne techniki zdobienia\nstworzysz kilka zakładek\, które mogą być pięknym dodatkiem do Twojej biblioteczki lub wyjątkowym prezentem\,\nzadbasz o chwilę relaksu i rozwój swojej kreatywności w przyjaznej atmosferze.\n\nW warsztatach mogą wziąć udział osoby zamieszkujące\, pracujące lub uczące się w Zabrzu\, w wieku od 15 do 29 lat.\n \nDlaczego warto wziąć udział w warsztatach?Ponieważ\, jest to doskonała okazja aby rozwijać swoje umiejętności artystyczne i wyobraźnie.Czego potrzebujesz?* Dobry humor* Chęć tworzeniaWszystkie niezbędne narzędzia i składniki będą zapewnione przez organizatorów.\n \nMiejsce spotkania: Fundacja Piastun Wyrównywanie Szans\, Zabrze ul. Wolności 293\, II piętroZapisy przyjmujemy pod numerem telefonu : 667 451 637 oraz mailowo: biuro@fundacjapiastun.pl.Warsztaty są częścią projektu Zielona Transformacja w ZabrzuNr FESL.10.24-IZ.01-068H/23 w ramach Funduszy Europejskich dla Śląskiego na lata 2021 – 2027\, współfinansowanego z Funduszu na rzecz Sprawiedliwej Transformacji.#FunduszeEuropejskie #FunduszeUE
URL:https://www.pokladykultury.com.pl/event/warsztaty-tworzenia-zakladek-do-ksiazek/
LOCATION:Fundacja Piastun Wyrównywanie Szans\, ul. Wolności 293 II piętro\, Zabrze\, śląskie\, Poland
ATTACH;FMTTYPE=image/jpeg:https://www.pokladykultury.com.pl/wp-content/uploads/2025/09/Warsztaty-tworzenia-zakladek-do-ksiazek.jpg
END:VEVENT
END:VCALENDAR