BEGIN:VCALENDAR
VERSION:2.0
PRODID:-//Pokładykultury.eu - ECPv5.16.3.1//NONSGML v1.0//EN
CALSCALE:GREGORIAN
METHOD:PUBLISH
X-ORIGINAL-URL:https://www.pokladykultury.com.pl
X-WR-CALDESC:Wydarzenia dla Pokładykultury.eu
REFRESH-INTERVAL;VALUE=DURATION:PT1H
X-Robots-Tag:noindex
X-PUBLISHED-TTL:PT1H
BEGIN:VTIMEZONE
TZID:Europe/Warsaw
BEGIN:DAYLIGHT
TZOFFSETFROM:+0100
TZOFFSETTO:+0200
TZNAME:CEST
DTSTART:20250330T010000
END:DAYLIGHT
BEGIN:STANDARD
TZOFFSETFROM:+0200
TZOFFSETTO:+0100
TZNAME:CET
DTSTART:20251026T010000
END:STANDARD
END:VTIMEZONE
BEGIN:VEVENT
DTSTART;TZID=Europe/Warsaw:20250920T160000
DTEND;TZID=Europe/Warsaw:20250920T203000
DTSTAMP:20260420T022023
CREATED:20250917T050633Z
LAST-MODIFIED:20250917T050633Z
UID:16406-1758384000-1758400200@www.pokladykultury.com.pl
SUMMARY:Ogród w Słoiku
DESCRIPTION:Chcesz mieć własny ogród\, ale mieszkasz w bloku\, brakuje Ci czasu albo uważasz\, że nie masz ręki do roślin? Mamy dla Ciebie idealne rozwiązanie! Przyjdź na #LarmowŚródmieściu i weź udział w warsztatach Ogród w Słoiku!\n \nPodczas warsztatów stworzysz własną\, zieloną kompozycję w szklanym naczyniu. Materiały i narzędzia zapewnia organizator: słoik\, roślinę\, ziemię\, kamyki i wszystko\, co potrzebne.\n \nWarsztaty odbędą się w dwóch turach: o godzinie 14:00 i 17:00. Potrwają 90 minut.\nWarsztaty poprowadzi Miejski Ogród Botaniczny w Zabrzu.\nWarsztaty przeznaczone są dla wszystkich od 10. roku życia.\nWarunkiem udziału w warsztatach jest zakup cegiełki na rzecz Fundacji Wspólnota Wielopokoleniowa (20 zł).Opłatę można wnieść gotówką lub BLIK-iem na miejscu przed warsztatami.\nLiczba miejsc jest ograniczona – decyduje kolejność zgłoszeń.\n \nZarejestruj się korzystając z QR kodu lub klikając w link w komentarzu wydarzenia na FB.\nZapraszamy na drugie LARMO w Śródmieściu!\nŚródmiejskie podwórze – między pl. Dworcowym\, ul. Dworcową\, pl. Wolności i ul. Wolności(Zabrze – CENTRUM\, ŚRÓDMIEŚCIE).
URL:https://www.pokladykultury.com.pl/event/ogrod-w-sloiku/
LOCATION:Śródmiejskie podwórze\, między pl. Dworcowym\, ul. Dworcową\, pl. Wolności i ul. Wolności\, Zabrze\, śląskie\, Poland
ATTACH;FMTTYPE=image/jpeg:https://www.pokladykultury.com.pl/wp-content/uploads/2025/09/Ogrod-w-sloiku.jpg
END:VEVENT
END:VCALENDAR